BEGIN:VCALENDAR
VERSION:2.0
PRODID:KKTIX
CALSCALE:GREGORIAN
METHOD:PUBLISH
BEGIN:VTIMEZONE
TZID:Asia/Taipei
END:VTIMEZONE
BEGIN:VEVENT
DTSTAMP:20260423T224416Z
UID:fa66613c-f636-4a55-a506-85c7711a8dcf
DTSTART:20260626T120000Z
DTEND:20260626T120000Z
CLASS:PUBLIC
DESCRIPTION:https://comedyclub.kktix.cc/events/baoshow2606
LOCATION: (北市中山區復興北路480號) Comedy Plus 卡米地＋
SUMMARY:爆秀集團六月專場：《幹什麼東西 - 信我者得笑聲
 》
END:VEVENT
END:VCALENDAR
