BEGIN:VCALENDAR
VERSION:2.0
PRODID:KKTIX
CALSCALE:GREGORIAN
METHOD:PUBLISH
BEGIN:VTIMEZONE
TZID:Asia/Taipei
END:VTIMEZONE
BEGIN:VEVENT
DTSTAMP:20260422T063412Z
UID:7447f831-4626-4640-b678-f96118973856
DTSTART:20260524T070000Z
DTEND:20260524T070000Z
CLASS:PUBLIC
DESCRIPTION:https://comedyclub.kktix.cc/events/cabbageguantvshow260524-1
LOCATION: (台北市中山區復興北路480號) Comedy Plus 卡米地＋
SUMMARY:【下午場-台灣第一吐槽決定戰】《菜冠電視台》
END:VEVENT
END:VCALENDAR
