BEGIN:VCALENDAR
VERSION:2.0
PRODID:KKTIX
CALSCALE:GREGORIAN
METHOD:PUBLISH
BEGIN:VTIMEZONE
TZID:Asia/Taipei
END:VTIMEZONE
BEGIN:VEVENT
DTSTAMP:20260422T082754Z
UID:7632fc94-8795-4c9a-b2e9-a72e0fb840f0
DTSTART:20260524T120000Z
DTEND:20260524T120000Z
CLASS:PUBLIC
DESCRIPTION:https://comedyclub.kktix.cc/events/cabbageguantvshow260524-2
LOCATION: (台北市中山區復興北路480號) Comedy Plus 卡米地＋
SUMMARY:【晚上場-吐槽藝人喝酒閒聊之夜】《菜冠電視台》
END:VEVENT
END:VCALENDAR
