BEGIN:VCALENDAR
VERSION:2.0
PRODID:KKTIX
CALSCALE:GREGORIAN
METHOD:PUBLISH
BEGIN:VTIMEZONE
TZID:Asia/Taipei
END:VTIMEZONE
BEGIN:VEVENT
DTSTAMP:20260423T095957Z
UID:93ce7696-7aa7-4946-a15e-a5f366f61b69
DTSTART:20260605T120000Z
DTEND:20260605T120000Z
CLASS:PUBLIC
DESCRIPTION:https://comedyclub.kktix.cc/events/comedyfridaysaturday0605
LOCATION: (北市中山區復興北路480號) Comedy Plus 卡米地＋
SUMMARY:【6/5】卡米地週五六夜
END:VEVENT
END:VCALENDAR
