BEGIN:VCALENDAR
VERSION:2.0
PRODID:KKTIX
CALSCALE:GREGORIAN
METHOD:PUBLISH
BEGIN:VTIMEZONE
TZID:Asia/Taipei
END:VTIMEZONE
BEGIN:VEVENT
DTSTAMP:20260423T100130Z
UID:ff45f6db-8fb2-4d6f-96a3-b3f8a7111b85
DTSTART:20260606T120000Z
DTEND:20260606T120000Z
CLASS:PUBLIC
DESCRIPTION:https://comedyclub.kktix.cc/events/comedyfridaysaturday0606
LOCATION: (北市中山區復興北路480號) Comedy Plus 卡米地＋
SUMMARY:【6/6】卡米地週五六夜
END:VEVENT
END:VCALENDAR
