BEGIN:VCALENDAR
VERSION:2.0
PRODID:KKTIX
CALSCALE:GREGORIAN
METHOD:PUBLISH
BEGIN:VTIMEZONE
TZID:Asia/Taipei
END:VTIMEZONE
BEGIN:VEVENT
DTSTAMP:20260423T142757Z
UID:dda2d951-0218-4109-ad74-2137a806a6a0
DTSTART:20260517T063000Z
DTEND:20260517T063000Z
CLASS:PUBLIC
DESCRIPTION:https://comedyclub.kktix.cc/events/couplelivepodcast20260517-1
LOCATION: (北市中山區復興北路480號) Comedy Plus 卡米地＋
SUMMARY:【午場】喜劇怨偶 Live Podcast
END:VEVENT
END:VCALENDAR
