BEGIN:VCALENDAR
VERSION:2.0
PRODID:KKTIX
CALSCALE:GREGORIAN
METHOD:PUBLISH
BEGIN:VTIMEZONE
TZID:Asia/Taipei
END:VTIMEZONE
BEGIN:VEVENT
DTSTAMP:20260423T140605Z
UID:2b7a38f7-27b3-4ee9-b632-a46160c513ad
DTSTART:20260517T103000Z
DTEND:20260517T103000Z
CLASS:PUBLIC
DESCRIPTION:https://comedyclub.kktix.cc/events/couplelivepodcast20260517-2
LOCATION: (北市中山區復興北路480號) Comedy Plus 卡米地＋
SUMMARY:【晚場】喜劇怨偶 Live Podcast
END:VEVENT
END:VCALENDAR
