BEGIN:VCALENDAR
VERSION:2.0
PRODID:KKTIX
CALSCALE:GREGORIAN
METHOD:PUBLISH
BEGIN:VTIMEZONE
TZID:Asia/Taipei
END:VTIMEZONE
BEGIN:VEVENT
DTSTAMP:20260422T093548Z
UID:a6728e18-e3b9-4bf0-8d27-57929cc90ccf
DTSTART:20260501T120000Z
DTEND:20260501T120000Z
CLASS:PUBLIC
DESCRIPTION:https://comedyclub.kktix.cc/events/livecomedy260501
LOCATION: (北市中山區復興北路480號) Comedy Plus 卡米地＋
SUMMARY:【5/1】週末夜喜劇秀
END:VEVENT
END:VCALENDAR
