BEGIN:VCALENDAR
VERSION:2.0
PRODID:KKTIX
CALSCALE:GREGORIAN
METHOD:PUBLISH
BEGIN:VTIMEZONE
TZID:Asia/Taipei
END:VTIMEZONE
BEGIN:VEVENT
DTSTAMP:20260422T094333Z
UID:85aaa5d3-6751-4bf3-b3db-52c3314d74a1
DTSTART:20260502T120000Z
DTEND:20260502T120000Z
CLASS:PUBLIC
DESCRIPTION:https://comedyclub.kktix.cc/events/livecomedy260502
LOCATION: (北市中山區復興北路480號) Comedy Plus 卡米地＋
SUMMARY:【5/2】週末夜喜劇秀
END:VEVENT
END:VCALENDAR
