BEGIN:VCALENDAR
VERSION:2.0
PRODID:KKTIX
CALSCALE:GREGORIAN
METHOD:PUBLISH
BEGIN:VTIMEZONE
TZID:Asia/Taipei
END:VTIMEZONE
BEGIN:VEVENT
DTSTAMP:20260422T093548Z
UID:142d234d-f924-40c3-b76b-ad5da1ad37fa
DTSTART:20260508T120000Z
DTEND:20260508T120000Z
CLASS:PUBLIC
DESCRIPTION:https://comedyclub.kktix.cc/events/livecomedy260508
LOCATION: (北市中山區復興北路480號) Comedy Plus 卡米地＋
SUMMARY:【5/8】週末夜喜劇秀
END:VEVENT
END:VCALENDAR
