BEGIN:VCALENDAR
VERSION:2.0
PRODID:KKTIX
CALSCALE:GREGORIAN
METHOD:PUBLISH
BEGIN:VTIMEZONE
TZID:Asia/Taipei
END:VTIMEZONE
BEGIN:VEVENT
DTSTAMP:20260422T093832Z
UID:10c925cd-f703-45b5-aa45-3bc3d0772835
DTSTART:20260509T120000Z
DTEND:20260509T120000Z
CLASS:PUBLIC
DESCRIPTION:https://comedyclub.kktix.cc/events/livecomedy260509
LOCATION: (北市中山區復興北路480號) Comedy Plus 卡米地＋
SUMMARY:【5/9】週末夜喜劇秀
END:VEVENT
END:VCALENDAR
