BEGIN:VCALENDAR
VERSION:2.0
PRODID:KKTIX
CALSCALE:GREGORIAN
METHOD:PUBLISH
BEGIN:VTIMEZONE
TZID:Asia/Taipei
END:VTIMEZONE
BEGIN:VEVENT
DTSTAMP:20260423T162306Z
UID:bf32fc88-1d01-4eae-92b6-6b76bad4eb86
DTSTART:20260612T120000Z
DTEND:20260612T120000Z
CLASS:PUBLIC
DESCRIPTION:https://comedyclub.kktix.cc/events/manzai2606
LOCATION: (北市中山區復興北路480號) Comedy Plus 卡米地＋
SUMMARY:《漫才月報》六月號
END:VEVENT
END:VCALENDAR
