BEGIN:VCALENDAR
VERSION:2.0
PRODID:KKTIX
CALSCALE:GREGORIAN
METHOD:PUBLISH
BEGIN:VTIMEZONE
TZID:Asia/Taipei
END:VTIMEZONE
BEGIN:VEVENT
DTSTAMP:20260423T203458Z
UID:8a69dcae-7808-4678-a2ba-8a440717c7b1
DTSTART:20260611T120000Z
DTEND:20260611T120000Z
CLASS:PUBLIC
DESCRIPTION:https://comedyclub.kktix.cc/events/manzaiopenmic20260611
LOCATION: (台北市中山區復興北路480號) Comedy Plus 卡米地＋
SUMMARY:【6/11】漫才歐噴麥
END:VEVENT
END:VCALENDAR
