BEGIN:VCALENDAR
VERSION:2.0
PRODID:KKTIX
CALSCALE:GREGORIAN
METHOD:PUBLISH
BEGIN:VTIMEZONE
TZID:Asia/Taipei
END:VTIMEZONE
BEGIN:VEVENT
DTSTAMP:20260423T163841Z
UID:5af9be7a-68cd-4ba7-8822-26a00efd593f
DTSTART:20260717T120000Z
DTEND:20260717T120000Z
CLASS:PUBLIC
DESCRIPTION:https://comedyclub.kktix.cc/events/showmine20260717
LOCATION: (北市中山區復興北路480號) Comedy Plus 卡米地＋
SUMMARY:【7/17台北場】2026康蒂首場個人專場《騷賣 Show Mine
 》
END:VEVENT
END:VCALENDAR
