BEGIN:VCALENDAR
VERSION:2.0
PRODID:KKTIX
CALSCALE:GREGORIAN
METHOD:PUBLISH
BEGIN:VTIMEZONE
TZID:Asia/Taipei
END:VTIMEZONE
BEGIN:VEVENT
DTSTAMP:20260423T155544Z
UID:75b0eae6-2cad-4cca-b85a-0e449df6907f
DTSTART:20260725T120000Z
DTEND:20260725T120000Z
CLASS:PUBLIC
DESCRIPTION:https://comedyclub.kktix.cc/events/showmine20260725
LOCATION: (北市中山區復興北路480號) Comedy Plus 卡米地＋
SUMMARY:【7/25台北場】2026康蒂首場個人專場《騷賣 Show Mine
 》
END:VEVENT
END:VCALENDAR
