BEGIN:VCALENDAR
VERSION:2.0
PRODID:KKTIX
CALSCALE:GREGORIAN
METHOD:PUBLISH
BEGIN:VTIMEZONE
TZID:Asia/Taipei
END:VTIMEZONE
BEGIN:VEVENT
DTSTAMP:20260423T162110Z
UID:2c5d8f2a-1b7b-4081-a44c-67234b4dff6a
DTSTART:20260808T120000Z
DTEND:20260808T120000Z
CLASS:PUBLIC
DESCRIPTION:https://comedyclub.kktix.cc/events/showmine20260808
LOCATION: (台中市西屯區西安街277巷2號) 群島藝術園區
SUMMARY:【8/8台中場】2026康蒂首場個人專場《騷賣 Show Mine
 》
END:VEVENT
END:VCALENDAR
