BEGIN:VCALENDAR
VERSION:2.0
PRODID:KKTIX
CALSCALE:GREGORIAN
METHOD:PUBLISH
BEGIN:VTIMEZONE
TZID:Asia/Taipei
END:VTIMEZONE
BEGIN:VEVENT
DTSTAMP:20260422T100327Z
UID:164b8e97-1242-468d-91a9-af8c7013beb7
DTSTART:20260519T120000Z
DTEND:20260519T120000Z
CLASS:PUBLIC
DESCRIPTION:https://comedyclub.kktix.cc/events/tuesday260519
LOCATION: (台北市中山區復興北路480號) Comedy Plus 卡米地＋
SUMMARY:【5/19】百靈果週二夜
END:VEVENT
END:VCALENDAR
