BEGIN:VCALENDAR
VERSION:2.0
PRODID:KKTIX
CALSCALE:GREGORIAN
METHOD:PUBLISH
BEGIN:VTIMEZONE
TZID:Asia/Taipei
END:VTIMEZONE
BEGIN:VEVENT
DTSTAMP:20260422T145146Z
UID:86799784-30a1-421a-9deb-30a80997e1e0
DTSTART:20260526T120000Z
DTEND:20260526T120000Z
CLASS:PUBLIC
DESCRIPTION:https://comedyclub.kktix.cc/events/tuesdaythemorerizz0526
LOCATION: (台北市中山區復興北路480號) Comedy Plus 卡米地＋
SUMMARY:【5/26】百靈果《給約嗎》全亞洲最真實的矇眼約會
  
END:VEVENT
END:VCALENDAR
